BEGIN:VCALENDAR
VERSION:2.0
PRODID:-//Bug to the Rescue! - ECPv6.15.20//NONSGML v1.0//EN
CALSCALE:GREGORIAN
METHOD:PUBLISH
X-ORIGINAL-URL:https://bugtotherescue.com
X-WR-CALDESC:Events for Bug to the Rescue!
REFRESH-INTERVAL;VALUE=DURATION:PT1H
X-Robots-Tag:noindex
X-PUBLISHED-TTL:PT1H
BEGIN:VTIMEZONE
TZID:UTC
BEGIN:STANDARD
TZOFFSETFROM:+0000
TZOFFSETTO:+0000
TZNAME:UTC
DTSTART:20190101T000000
END:STANDARD
END:VTIMEZONE
BEGIN:VTIMEZONE
TZID:America/Phoenix
BEGIN:STANDARD
TZOFFSETFROM:-0700
TZOFFSETTO:-0700
TZNAME:MST
DTSTART:20190101T000000
END:STANDARD
END:VTIMEZONE
BEGIN:VEVENT
DTSTART;TZID=UTC:20250125T100000
DTEND;TZID=UTC:20250125T140000
DTSTAMP:20260425T163443
CREATED:20250105T021303Z
LAST-MODIFIED:20250105T021447Z
UID:10664-1737799200-1737813600@bugtotherescue.com
SUMMARY:Camp Bow Wow 5 Year Anniversary Adoption Event
DESCRIPTION:Join us at Camp Bow Wow N Scottsdale on Saturday\, January 25th from 10am til 2pm and come meet the pup of your dreams!  All dogs adopted from Bug to the Rescue get THREE FREE DAYS of doggy daycare at Camp Bow Wow N. Scottsdale.  There’ll be plenty of fun for everyone!
URL:https://bugtotherescue.com/event/camp-bow-wow-5-year-adoption-event/
LOCATION:Camp Bow Wow\, 7000 E Mayo Blvd Ste 1096\, Phoenix\, AZ\, 85054\, United States
CATEGORIES:Adoption Event,Social
ATTACH;FMTTYPE=image/png:https://bugtotherescue.com/wp-content/uploads/2025/01/CORP_Canva-Logos_F-06.png
END:VEVENT
BEGIN:VEVENT
DTSTART;TZID=UTC:20250112T110000
DTEND;TZID=UTC:20250112T150000
DTSTAMP:20260425T163443
CREATED:20250111T005218Z
LAST-MODIFIED:20250111T005218Z
UID:10682-1736679600-1736694000@bugtotherescue.com
SUMMARY:Adoption Event - Earthwise Holistic Pet Supply
DESCRIPTION:Join us for an adoption event at Earthwise Holistic Pet Supply & Grooming (Formerly See Spot Shop).
URL:https://bugtotherescue.com/event/adoption-event-earthwise-holistic-pet-supply/
LOCATION:Earthwise Holistic Pet Supply\, 15033 N Thompson Peak Pkwy\, Scottsdale\, AZ\, 85260\, United States
CATEGORIES:Adoption Event,Pet
ORGANIZER;CN="Bug to the Rescue":MAILTO:bugtotherescue@gmail.com
END:VEVENT
BEGIN:VEVENT
DTSTART;TZID=UTC:20241102T110000
DTEND;TZID=UTC:20241102T150000
DTSTAMP:20260425T163443
CREATED:20241023T064226Z
LAST-MODIFIED:20241028T031301Z
UID:10342-1730545200-1730559600@bugtotherescue.com
SUMMARY:Bug to the Rescue at Tractor Supply
DESCRIPTION:We’ll be at Tractor Supply in Chandler the first Saturday of each month!
URL:https://bugtotherescue.com/event/bug-to-the-rescue-adoption-event-4/
LOCATION:Tractor Supply Chandler\, 25606 S Arizona Ave\, Chandler\, AZ\, 85248\, United States
CATEGORIES:Adoption Event,Bug,Pet
ORGANIZER;CN="Bug to the Rescue":MAILTO:bugtotherescue@gmail.com
END:VEVENT
BEGIN:VEVENT
DTSTART;TZID=UTC:20241026T110000
DTEND;TZID=UTC:20241026T150000
DTSTAMP:20260425T163443
CREATED:20241023T064005Z
LAST-MODIFIED:20241025T164137Z
UID:10339-1729940400-1729954800@bugtotherescue.com
SUMMARY:Bug to the Rescue Adoption Event
DESCRIPTION:Join us and a whole bunch of other rescues on Oct 26th from 11am – 3pm and meet the pup of your dreams!  We’ll be at Sonrisa Park on the corner of 52nd street and Sweetwater!
URL:https://bugtotherescue.com/event/bug-to-the-rescue-adoption-event-3/
LOCATION:Sonrisa Park\, 12812 N 52nd St\, Scottsdale\, AZ\, 85254\, United States
ORGANIZER;CN="Bug to the Rescue":MAILTO:bugtotherescue@gmail.com
END:VEVENT
BEGIN:VEVENT
DTSTART;TZID=UTC:20240907T100000
DTEND;TZID=UTC:20240907T140000
DTSTAMP:20260425T163443
CREATED:20240810T120006Z
LAST-MODIFIED:20240715T193556Z
UID:10318-1725703200-1725717600@bugtotherescue.com
SUMMARY:Bug to the Rescue Adoption Event
DESCRIPTION:Join us on the 1st Saturday of every month at Tractor Supply in Chandler and meet some of available pups!
URL:https://bugtotherescue.com/event/bug-to-the-rescue-adoption-event-2/
LOCATION:Tractor Supply Chandler\, 25606 S Arizona Ave\, Chandler\, AZ\, 85248\, United States
CATEGORIES:Adoption Event,Pet,Social
ORGANIZER;CN="Bug to the Rescue":MAILTO:bugtotherescue@gmail.com
END:VEVENT
BEGIN:VEVENT
DTSTART;TZID=UTC:20240803T100000
DTEND;TZID=UTC:20240803T140000
DTSTAMP:20260425T163443
CREATED:20240715T193317Z
LAST-MODIFIED:20250813T133101Z
UID:10315-1722679200-1722693600@bugtotherescue.com
SUMMARY:Bug to the Rescue Adoption Event
DESCRIPTION:Join us the first Saturday of each month at Tractor Supply in Chandler to meet some of our available pups!
URL:https://bugtotherescue.com/event/adoption-event/
LOCATION:Tractor Supply Chandler\, 25606 S Arizona Ave\, Chandler\, AZ\, 85248\, United States
CATEGORIES:Adoption Event,Pet,Social
ORGANIZER;CN="Bug to the Rescue":MAILTO:bugtotherescue@gmail.com
END:VEVENT
BEGIN:VEVENT
DTSTART;TZID=UTC:20230325T110000
DTEND;TZID=UTC:20230325T150000
DTSTAMP:20260425T163443
CREATED:20230323T161649Z
LAST-MODIFIED:20230324T024327Z
UID:8271-1679742000-1679756400@bugtotherescue.com
SUMMARY:Bug to the Rescue Adoption Event - Chandler
DESCRIPTION:If you’ll be in the Chandler area this Saturday\, please join us for an adoption event.  We got da Puppies!!! \nTractor Supply Co on Arizona Ave X Riggs \n11am – 3pm (weather permitting)
URL:https://bugtotherescue.com/event/bug-to-the-rescue-adoption-event-chandler/
LOCATION:Tractor Supply Chandler\, 25606 S Arizona Ave\, Chandler\, AZ\, 85248\, United States
CATEGORIES:Adoption Event,Bug,Pet
ATTACH;FMTTYPE=image/jpeg:https://bugtotherescue.com/wp-content/uploads/2023/03/IMG_1499-scaled-e1679625798536.jpeg
ORGANIZER;CN="Bug to the Rescue":MAILTO:bugtotherescue@gmail.com
END:VEVENT
BEGIN:VEVENT
DTSTART;TZID=UTC:20201011T110000
DTEND;TZID=UTC:20201011T140000
DTSTAMP:20260425T163443
CREATED:20190604T031226Z
LAST-MODIFIED:20200721T183146Z
UID:1032-1602414000-1602424800@bugtotherescue.com
SUMMARY:Sunday in the Park with Bug!
DESCRIPTION:Meet up at the Horizon Dog Park for a meet & greet!
URL:https://bugtotherescue.com/event/sunday-park-with-bug/
LOCATION:Horizon Community Center Park\, 15444 N 100th St\, Scottsdale\, AZ\, 85260\, United States
CATEGORIES:Bug,Charity,Social
ATTACH;FMTTYPE=image/jpeg:https://bugtotherescue.com/wp-content/uploads/2019/12/DSC02070-scaled.jpg
ORGANIZER;CN="Bug to the Rescue":MAILTO:bugtotherescue@gmail.com
END:VEVENT
BEGIN:VEVENT
DTSTART;TZID=UTC:20200912T100000
DTEND;TZID=UTC:20200912T130000
DTSTAMP:20260425T163443
CREATED:20200719T223156Z
LAST-MODIFIED:20200723T065429Z
UID:5132-1599904800-1599915600@bugtotherescue.com
SUMMARY:Bug to the Rescue Adoption Event
DESCRIPTION:Join us at Horizon Community Center Park adjacent to the dog park for a fun afternoon of Masks\, Social Distancing\, and Dogs!
URL:https://bugtotherescue.com/event/bug-to-the-rescue-adoption-event/
LOCATION:Horizon Community Center Park\, 15444 N 100th St\, Scottsdale\, AZ\, 85260\, United States
CATEGORIES:Adoption Event,Charity,Pet,Social
ATTACH;FMTTYPE=image/jpeg:https://bugtotherescue.com/wp-content/uploads/2019/12/71688296_694128117768009_6466143804670869504_o.jpg
ORGANIZER;CN="Bug to the Rescue":MAILTO:bugtotherescue@gmail.com
END:VEVENT
BEGIN:VEVENT
DTSTART;TZID=America/Phoenix:20200126T100000
DTEND;TZID=America/Phoenix:20200126T140000
DTSTAMP:20260425T163443
CREATED:20190603T080820Z
LAST-MODIFIED:20200105T051809Z
UID:1019-1580032800-1580047200@bugtotherescue.com
SUMMARY:Cool Cats Rescue Adoption Event
DESCRIPTION:Join Bug and Cool Cats Rescue AZ (yep\, they have dogs\, too!) for fun in the sun at Arizona Natural Concepts – ANC Medical Cannabis Dispensary at our adoption event! Several other rescues will be there as well\, so you’re sure to find the dog of your dreams!
URL:https://bugtotherescue.com/event/cool-cats-event-2019-10-20/
LOCATION:Arizona Natural Concepts Dispensary\, 1039 E. Carefree Hwy\, Phoenix\, AZ\, 85085\, United States
CATEGORIES:Adoption Event
ATTACH;FMTTYPE=image/jpeg:https://bugtotherescue.com/wp-content/uploads/2019/06/74182237_698561303991357_66465525143699456_n.jpg
ORGANIZER;CN="Bug to the Rescue":MAILTO:bugtotherescue@gmail.com
END:VEVENT
END:VCALENDAR