BEGIN:VCALENDAR
VERSION:2.0
PRODID:-//Bug to the Rescue! - ECPv6.15.20//NONSGML v1.0//EN
CALSCALE:GREGORIAN
METHOD:PUBLISH
X-ORIGINAL-URL:https://bugtotherescue.com
X-WR-CALDESC:Events for Bug to the Rescue!
REFRESH-INTERVAL;VALUE=DURATION:PT1H
X-Robots-Tag:noindex
X-PUBLISHED-TTL:PT1H
BEGIN:VTIMEZONE
TZID:UTC
BEGIN:STANDARD
TZOFFSETFROM:+0000
TZOFFSETTO:+0000
TZNAME:UTC
DTSTART:20190101T000000
END:STANDARD
END:VTIMEZONE
BEGIN:VEVENT
DTSTART;TZID=UTC:20241102T110000
DTEND;TZID=UTC:20241102T150000
DTSTAMP:20260425T214716
CREATED:20241023T064226Z
LAST-MODIFIED:20241028T031301Z
UID:10342-1730545200-1730559600@bugtotherescue.com
SUMMARY:Bug to the Rescue at Tractor Supply
DESCRIPTION:We’ll be at Tractor Supply in Chandler the first Saturday of each month!
URL:https://bugtotherescue.com/event/bug-to-the-rescue-adoption-event-4/
LOCATION:Tractor Supply Chandler\, 25606 S Arizona Ave\, Chandler\, AZ\, 85248\, United States
CATEGORIES:Adoption Event,Bug,Pet
ORGANIZER;CN="Bug to the Rescue":MAILTO:bugtotherescue@gmail.com
END:VEVENT
BEGIN:VEVENT
DTSTART;TZID=UTC:20230325T110000
DTEND;TZID=UTC:20230325T150000
DTSTAMP:20260425T214716
CREATED:20230323T161649Z
LAST-MODIFIED:20230324T024327Z
UID:8271-1679742000-1679756400@bugtotherescue.com
SUMMARY:Bug to the Rescue Adoption Event - Chandler
DESCRIPTION:If you’ll be in the Chandler area this Saturday\, please join us for an adoption event.  We got da Puppies!!! \nTractor Supply Co on Arizona Ave X Riggs \n11am – 3pm (weather permitting)
URL:https://bugtotherescue.com/event/bug-to-the-rescue-adoption-event-chandler/
LOCATION:Tractor Supply Chandler\, 25606 S Arizona Ave\, Chandler\, AZ\, 85248\, United States
CATEGORIES:Adoption Event,Bug,Pet
ATTACH;FMTTYPE=image/jpeg:https://bugtotherescue.com/wp-content/uploads/2023/03/IMG_1499-scaled-e1679625798536.jpeg
ORGANIZER;CN="Bug to the Rescue":MAILTO:bugtotherescue@gmail.com
END:VEVENT
BEGIN:VEVENT
DTSTART;TZID=UTC:20201011T110000
DTEND;TZID=UTC:20201011T140000
DTSTAMP:20260425T214716
CREATED:20190604T031226Z
LAST-MODIFIED:20200721T183146Z
UID:1032-1602414000-1602424800@bugtotherescue.com
SUMMARY:Sunday in the Park with Bug!
DESCRIPTION:Meet up at the Horizon Dog Park for a meet & greet!
URL:https://bugtotherescue.com/event/sunday-park-with-bug/
LOCATION:Horizon Community Center Park\, 15444 N 100th St\, Scottsdale\, AZ\, 85260\, United States
CATEGORIES:Bug,Charity,Social
ATTACH;FMTTYPE=image/jpeg:https://bugtotherescue.com/wp-content/uploads/2019/12/DSC02070-scaled.jpg
ORGANIZER;CN="Bug to the Rescue":MAILTO:bugtotherescue@gmail.com
END:VEVENT
END:VCALENDAR